BEGIN:VCALENDAR
VERSION:2.0
PRODID:-//C4-C6 Historique Club - ECPv6.15.20//NONSGML v1.0//EN
CALSCALE:GREGORIAN
METHOD:PUBLISH
X-ORIGINAL-URL:https://c4c6historique.fr
X-WR-CALDESC:Évènements pour C4-C6 Historique Club
REFRESH-INTERVAL;VALUE=DURATION:PT1H
X-Robots-Tag:noindex
X-PUBLISHED-TTL:PT1H
BEGIN:VTIMEZONE
TZID:Europe/Paris
BEGIN:DAYLIGHT
TZOFFSETFROM:+0100
TZOFFSETTO:+0200
TZNAME:CEST
DTSTART:20200329T010000
END:DAYLIGHT
BEGIN:STANDARD
TZOFFSETFROM:+0200
TZOFFSETTO:+0100
TZNAME:CET
DTSTART:20201025T010000
END:STANDARD
BEGIN:DAYLIGHT
TZOFFSETFROM:+0100
TZOFFSETTO:+0200
TZNAME:CEST
DTSTART:20210328T010000
END:DAYLIGHT
BEGIN:STANDARD
TZOFFSETFROM:+0200
TZOFFSETTO:+0100
TZNAME:CET
DTSTART:20211031T010000
END:STANDARD
BEGIN:DAYLIGHT
TZOFFSETFROM:+0100
TZOFFSETTO:+0200
TZNAME:CEST
DTSTART:20220327T010000
END:DAYLIGHT
BEGIN:STANDARD
TZOFFSETFROM:+0200
TZOFFSETTO:+0100
TZNAME:CET
DTSTART:20221030T010000
END:STANDARD
END:VTIMEZONE
BEGIN:VEVENT
DTSTART;VALUE=DATE:20210309
DTEND;VALUE=DATE:20210510
DTSTAMP:20260424T022914
CREATED:20241009T070046Z
LAST-MODIFIED:20260420T184922Z
UID:10529-1615248000-1620604799@c4c6historique.fr
SUMMARY:Les Grands Causses en Citroën - 90 ans de la Croisière Jaune
DESCRIPTION:L’année 2021 marque les 90 ans du départ de la Croisière Jaune Citroën à la conquête de l\’Asie\, mais avant cette formidable épopée\, le développement des autochenilles C4 et C6 a été mené sur le Causse Méjean\, à Meyrueis\, où la famille Malafosse a mis à disposition son garage Citroën. \nCe rassemblement au départ de Meyrueis vous permettra de découvrir les paysages du Causse Méjean\, choisi pour sa ressemblance avec le désert de Gobi\, nous découvrirons également les majestueuses gorges du Tarn et de la Jonte\, destination très convoitée dans les années 30 par le biais des circuits d\’autocars et circuits automobiles touristiques du Paris-Orléans. \nVous trouverez tous les détails de cette superbe sortie sur le fil de discussion du forum qui se trouve ICI \n  \nN’hésitez pas à participer au voyage et à contacter Chef de Gare notre délégué régional\, qui est l’organisateur de ce beau périple !
URL:https://c4c6historique.fr/event/les-grands-causses-en-citroen-90-ans-de-la-croisiere-jaune/
LOCATION:France
CATEGORIES:Sorties Club
END:VEVENT
END:VCALENDAR