BEGIN:VCALENDAR
VERSION:2.0
PRODID:-//C4-C6 Historique Club - ECPv6.15.20//NONSGML v1.0//EN
CALSCALE:GREGORIAN
METHOD:PUBLISH
X-ORIGINAL-URL:https://c4c6historique.fr
X-WR-CALDESC:Évènements pour C4-C6 Historique Club
REFRESH-INTERVAL;VALUE=DURATION:PT1H
X-Robots-Tag:noindex
X-PUBLISHED-TTL:PT1H
BEGIN:VTIMEZONE
TZID:Europe/Paris
BEGIN:DAYLIGHT
TZOFFSETFROM:+0100
TZOFFSETTO:+0200
TZNAME:CEST
DTSTART:20230326T010000
END:DAYLIGHT
BEGIN:STANDARD
TZOFFSETFROM:+0200
TZOFFSETTO:+0100
TZNAME:CET
DTSTART:20231029T010000
END:STANDARD
BEGIN:DAYLIGHT
TZOFFSETFROM:+0100
TZOFFSETTO:+0200
TZNAME:CEST
DTSTART:20240331T010000
END:DAYLIGHT
BEGIN:STANDARD
TZOFFSETFROM:+0200
TZOFFSETTO:+0100
TZNAME:CET
DTSTART:20241027T010000
END:STANDARD
BEGIN:DAYLIGHT
TZOFFSETFROM:+0100
TZOFFSETTO:+0200
TZNAME:CEST
DTSTART:20250330T010000
END:DAYLIGHT
BEGIN:STANDARD
TZOFFSETFROM:+0200
TZOFFSETTO:+0100
TZNAME:CET
DTSTART:20251026T010000
END:STANDARD
END:VTIMEZONE
BEGIN:VEVENT
DTSTART;TZID=Europe/Paris:20241011T080000
DTEND;TZID=Europe/Paris:20241013T170000
DTSTAMP:20260421T151140
CREATED:20241010T174028Z
LAST-MODIFIED:20260420T184856Z
UID:13521-1728633600-1728838800@c4c6historique.fr
SUMMARY:Pau Rétro Show
DESCRIPTION:Un salon régional destiné aux passionnés du vintage et des amateurs d’automobiles\, de motos et d’objets anciens va voir le jour à Pau.\nPour ce rendez-vous pas tout à fait comme les autres\, serez vous un exposant passionnant ou un visiteur passionné ? \nAvec la participation de Aurélien & Gerry\, les célèbres animateurs de Wheeler Dealers
URL:https://c4c6historique.fr/event/pau-retro-show/
CATEGORIES:Salon
END:VEVENT
END:VCALENDAR